BEGIN:VCALENDAR
VERSION:2.0
PRODID:-//Margaret River Independent School - ECPv6.15.20//NONSGML v1.0//EN
CALSCALE:GREGORIAN
METHOD:PUBLISH
X-ORIGINAL-URL:https://mris.wa.edu.au
X-WR-CALDESC:Events for Margaret River Independent School
REFRESH-INTERVAL;VALUE=DURATION:PT1H
X-Robots-Tag:noindex
X-PUBLISHED-TTL:PT1H
BEGIN:VTIMEZONE
TZID:Australia/Perth
BEGIN:STANDARD
TZOFFSETFROM:+0800
TZOFFSETTO:+0800
TZNAME:AWST
DTSTART:20250101T000000
END:STANDARD
END:VTIMEZONE
BEGIN:VEVENT
DTSTART;TZID=Australia/Perth:20260505T180000
DTEND;TZID=Australia/Perth:20260505T200000
DTSTAMP:20260422T120427
CREATED:20260414T090448Z
LAST-MODIFIED:20260416T032022Z
UID:10000756-1778004000-1778011200@mris.wa.edu.au
SUMMARY:Raising Kids in a Digital Age: eSafety\, Sleep\, Resilience and Wellbeing: Tue 5th May 2026\, 6:00 pm
DESCRIPTION:
URL:https://mris.wa.edu.au/event/raising-kids-in-a-digital-age-esafety-sleep-resilience-wellbeing-tue-5th-may-2026-600-pm/
LOCATION:The Heart Margaret River\, The Margaret River Heart\, 47 Wallcliffe Road\, Margaret River\, Margaret River\, Western Australia\, 6285\, Australia
CATEGORIES:Parent Workshop
ORGANIZER;CN="MRIS":MAILTO:office@mris.wa.edu.au
END:VEVENT
END:VCALENDAR